

BEGIN:VCALENDAR
VERSION:2.0
PRODID:-//https://social.fishingcreekfarm.org/ - ECPv6.15.20//NONSGML v1.0//EN
CALSCALE:GREGORIAN
METHOD:PUBLISH
X-WR-CALNAME:https://social.fishingcreekfarm.org/
X-ORIGINAL-URL:https://social.fishingcreekfarm.org
X-WR-CALDESC:Events for https://social.fishingcreekfarm.org/
REFRESH-INTERVAL;VALUE=DURATION:PT1H
X-Robots-Tag:noindex
X-PUBLISHED-TTL:PT1H
BEGIN:VTIMEZONE
TZID:America/New_York
BEGIN:DAYLIGHT
TZOFFSETFROM:-0500
TZOFFSETTO:-0400
TZNAME:EDT
DTSTART:20180311T070000
END:DAYLIGHT
BEGIN:STANDARD
TZOFFSETFROM:-0400
TZOFFSETTO:-0500
TZNAME:EST
DTSTART:20181104T060000
END:STANDARD
BEGIN:DAYLIGHT
TZOFFSETFROM:-0500
TZOFFSETTO:-0400
TZNAME:EDT
DTSTART:20190310T070000
END:DAYLIGHT
BEGIN:STANDARD
TZOFFSETFROM:-0400
TZOFFSETTO:-0500
TZNAME:EST
DTSTART:20191103T060000
END:STANDARD
BEGIN:DAYLIGHT
TZOFFSETFROM:-0500
TZOFFSETTO:-0400
TZNAME:EDT
DTSTART:20200308T070000
END:DAYLIGHT
BEGIN:STANDARD
TZOFFSETFROM:-0400
TZOFFSETTO:-0500
TZNAME:EST
DTSTART:20201101T060000
END:STANDARD
BEGIN:DAYLIGHT
TZOFFSETFROM:-0500
TZOFFSETTO:-0400
TZNAME:EDT
DTSTART:20210314T070000
END:DAYLIGHT
BEGIN:STANDARD
TZOFFSETFROM:-0400
TZOFFSETTO:-0500
TZNAME:EST
DTSTART:20211107T060000
END:STANDARD
BEGIN:DAYLIGHT
TZOFFSETFROM:-0500
TZOFFSETTO:-0400
TZNAME:EDT
DTSTART:20220313T070000
END:DAYLIGHT
BEGIN:STANDARD
TZOFFSETFROM:-0400
TZOFFSETTO:-0500
TZNAME:EST
DTSTART:20221106T060000
END:STANDARD
BEGIN:DAYLIGHT
TZOFFSETFROM:-0500
TZOFFSETTO:-0400
TZNAME:EDT
DTSTART:20230312T070000
END:DAYLIGHT
BEGIN:STANDARD
TZOFFSETFROM:-0400
TZOFFSETTO:-0500
TZNAME:EST
DTSTART:20231105T060000
END:STANDARD
BEGIN:DAYLIGHT
TZOFFSETFROM:-0500
TZOFFSETTO:-0400
TZNAME:EDT
DTSTART:20240310T070000
END:DAYLIGHT
BEGIN:STANDARD
TZOFFSETFROM:-0400
TZOFFSETTO:-0500
TZNAME:EST
DTSTART:20241103T060000
END:STANDARD
BEGIN:DAYLIGHT
TZOFFSETFROM:-0500
TZOFFSETTO:-0400
TZNAME:EDT
DTSTART:20250309T070000
END:DAYLIGHT
BEGIN:STANDARD
TZOFFSETFROM:-0400
TZOFFSETTO:-0500
TZNAME:EST
DTSTART:20251102T060000
END:STANDARD
BEGIN:DAYLIGHT
TZOFFSETFROM:-0500
TZOFFSETTO:-0400
TZNAME:EDT
DTSTART:20260308T070000
END:DAYLIGHT
BEGIN:STANDARD
TZOFFSETFROM:-0400
TZOFFSETTO:-0500
TZNAME:EST
DTSTART:20261101T060000
END:STANDARD
END:VTIMEZONE
BEGIN:VEVENT
DTSTART;TZID=America/New_York:20251127T090000
DTEND;TZID=America/New_York:20251127T120000
DTSTAMP:20260420T111736
CREATED:20251121T152853Z
LAST-MODIFIED:20251121T152853Z
UID:10001297-1764234000-1764244800@social.fishingcreekfarm.org
SUMMARY:Thanksgiving Pickleball
DESCRIPTION:There’s open-play pickleball for neighbors and guests on Thanksgiving morning from 9-noon. 
URL:https://social.fishingcreekfarm.org/event/thanksgiving-pickleball/
LOCATION:Cherry Tree Lane Tennis Court
END:VEVENT
BEGIN:VEVENT
DTSTART;TZID=America/New_York:20250618T163000
DTEND;TZID=America/New_York:20250709T183000
DTSTAMP:20260420T111736
CREATED:20250602T184249Z
LAST-MODIFIED:20250603T145654Z
UID:10000816-1750264200-1752085800@social.fishingcreekfarm.org
SUMMARY:Children's Tennis Camp
DESCRIPTION:FCF Kids’ Tennis Camp 2025\nOUR 16th Year\nCamp Days – Wednesdays – June 18\, 25; July 2\, 9;\nRain Date is July 16.\nHurry and register\, registration ends June 13th – – Tennis camp starts June 18th!\nCoach George Martin\, Teaching Pro at Bowie Sportsfit and Key School Tennis Camp Director\, will lead our camp.  Tennis skills\, scoring and match playing will be taught.  Players of all levels welcome – – and no experience is necessary.  This is a great way for the kids in the neighborhood to get to know each other and hang out.   As in the past\, we will have two classes\, one for younger kids and one for older players.   For any questions\, please text Gary Harkins at 301-535-441 or Lark Marie at 410-212-0001 or Jamie Marie at jamie.l.marie@gmail.com \nThe Programs:\n\nAges 6-9 will be in the Quick Start Program. It’s a great way to learn to play\, develop basic tennis skills and an understanding of the game.\nAges 10-16 will learn the strokes\, game strategy\, how to serve\, how to score and will play matches.  Fun games will be used to sharpen skills\, and challenging “match style” games will be played.\n\nThe Times\n\nLessons will be once a week\, Wednesdays\, June 18\, 25\, July 2\, 9\n4:30 p.m. – 5:30 p.m.  – ages 6-9·\n5:35 p.m.– 6:35 p.m. – ages 10-16\n\nThe Cost\nPay one flat fee of $85 per child to attend as many lessons as you want! Availability is limited to the first who sign up\, so register now! We ideally wish to cap the number in each group to Six Players.  If your child has experience playing and wants to play with the older kids\, feel free to register them for that session. \nTo Reserve your place in the camp:\nFirst select the number of children who will be attending\, and then click on the “Get Tickets” button.
URL:https://social.fishingcreekfarm.org/event/childrens-tennis-camp-3/
LOCATION:Cherry Tree Lane Tennis Court
END:VEVENT
BEGIN:VEVENT
DTSTART;TZID=America/New_York:20240626T173000
DTEND;TZID=America/New_York:20240626T193000
DTSTAMP:20260420T111736
CREATED:20240501T154959Z
LAST-MODIFIED:20240501T154959Z
UID:10000555-1719423000-1719430200@social.fishingcreekfarm.org
SUMMARY:Children's Tennis Camp
DESCRIPTION:FCF Kids’ Tennis Camp 2024\nASSESSMENT Day May 15th @ 3:30pm\nCamp Days Wednesdays: June 5\, 12\, 19\, and 26\nHurry and register – – tennis camp starts June 5th! Assessment Day Wednesday May 15th @ 3:30 to 4:30 pm \nCoach Booie\, Teaching Pro at Bowie Sportsfit and  private lesson coach\, will lead our camp.  Tennis skills\, scoring and match playing will be taught.  Players of all levels welcome – – and no experience is necessary.  This is a great way for the kids in the neighborhood to get to know each and hang out.   As in the past\, we will have two classes\, one for younger kids and one for older players.   For any questions\, please text Gary Harkins at 301-535-441 or Lark Marie@ 410-212-0001 \nThe Programs: \n\nAges 6-9 will be in the Quick Start Program. It’s a great way to learn to play\, develop basic tennis skills and an understanding of the game.\nAges 10-17 will learn the strokes\, game strategy\, how to serve\, how to score and will play matches.  Fun games will be used to sharpen skills\, and challenging “match style” games will be played.\n\nThe Times \n\nLessons will be once a week\, Wednesdays\, June 5\, 12\, 19\, 26\n5:30 p.m. – 6:15 p.m.  – ages 6-9\n6:20 p.m.– 7:30 p.m. – ages 10-17\n\nThe Cost \nPay one flat fee of $85 per child to attend as many lessons as you want! Availability is limited to the first who sign up\, so register now!  If your child has experience playing and wants to play with the older kids\, feel free to register them for that session and attend the Assessment Day for Proper Placement. \nTo Purchase Tickets\, please click the button below:
URL:https://social.fishingcreekfarm.org/event/childrens-tennis-camp-2/2024-06-26/
LOCATION:Cherry Tree Lane Tennis Court
END:VEVENT
BEGIN:VEVENT
DTSTART;TZID=America/New_York:20240619T173000
DTEND;TZID=America/New_York:20240619T193000
DTSTAMP:20260420T111736
CREATED:20240501T154959Z
LAST-MODIFIED:20240501T154959Z
UID:10000554-1718818200-1718825400@social.fishingcreekfarm.org
SUMMARY:Children's Tennis Camp
DESCRIPTION:FCF Kids’ Tennis Camp 2024\nASSESSMENT Day May 15th @ 3:30pm\nCamp Days Wednesdays: June 5\, 12\, 19\, and 26\nHurry and register – – tennis camp starts June 5th! Assessment Day Wednesday May 15th @ 3:30 to 4:30 pm \nCoach Booie\, Teaching Pro at Bowie Sportsfit and  private lesson coach\, will lead our camp.  Tennis skills\, scoring and match playing will be taught.  Players of all levels welcome – – and no experience is necessary.  This is a great way for the kids in the neighborhood to get to know each and hang out.   As in the past\, we will have two classes\, one for younger kids and one for older players.   For any questions\, please text Gary Harkins at 301-535-441 or Lark Marie@ 410-212-0001 \nThe Programs: \n\nAges 6-9 will be in the Quick Start Program. It’s a great way to learn to play\, develop basic tennis skills and an understanding of the game.\nAges 10-17 will learn the strokes\, game strategy\, how to serve\, how to score and will play matches.  Fun games will be used to sharpen skills\, and challenging “match style” games will be played.\n\nThe Times \n\nLessons will be once a week\, Wednesdays\, June 5\, 12\, 19\, 26\n5:30 p.m. – 6:15 p.m.  – ages 6-9\n6:20 p.m.– 7:30 p.m. – ages 10-17\n\nThe Cost \nPay one flat fee of $85 per child to attend as many lessons as you want! Availability is limited to the first who sign up\, so register now!  If your child has experience playing and wants to play with the older kids\, feel free to register them for that session and attend the Assessment Day for Proper Placement. \nTo Purchase Tickets\, please click the button below:
URL:https://social.fishingcreekfarm.org/event/childrens-tennis-camp-2/2024-06-19/
LOCATION:Cherry Tree Lane Tennis Court
END:VEVENT
BEGIN:VEVENT
DTSTART;TZID=America/New_York:20240612T173000
DTEND;TZID=America/New_York:20240612T193000
DTSTAMP:20260420T111736
CREATED:20240501T154959Z
LAST-MODIFIED:20240501T154959Z
UID:10000553-1718213400-1718220600@social.fishingcreekfarm.org
SUMMARY:Children's Tennis Camp
DESCRIPTION:FCF Kids’ Tennis Camp 2024\nASSESSMENT Day May 15th @ 3:30pm\nCamp Days Wednesdays: June 5\, 12\, 19\, and 26\nHurry and register – – tennis camp starts June 5th! Assessment Day Wednesday May 15th @ 3:30 to 4:30 pm \nCoach Booie\, Teaching Pro at Bowie Sportsfit and  private lesson coach\, will lead our camp.  Tennis skills\, scoring and match playing will be taught.  Players of all levels welcome – – and no experience is necessary.  This is a great way for the kids in the neighborhood to get to know each and hang out.   As in the past\, we will have two classes\, one for younger kids and one for older players.   For any questions\, please text Gary Harkins at 301-535-441 or Lark Marie@ 410-212-0001 \nThe Programs: \n\nAges 6-9 will be in the Quick Start Program. It’s a great way to learn to play\, develop basic tennis skills and an understanding of the game.\nAges 10-17 will learn the strokes\, game strategy\, how to serve\, how to score and will play matches.  Fun games will be used to sharpen skills\, and challenging “match style” games will be played.\n\nThe Times \n\nLessons will be once a week\, Wednesdays\, June 5\, 12\, 19\, 26\n5:30 p.m. – 6:15 p.m.  – ages 6-9\n6:20 p.m.– 7:30 p.m. – ages 10-17\n\nThe Cost \nPay one flat fee of $85 per child to attend as many lessons as you want! Availability is limited to the first who sign up\, so register now!  If your child has experience playing and wants to play with the older kids\, feel free to register them for that session and attend the Assessment Day for Proper Placement. \nTo Purchase Tickets\, please click the button below:
URL:https://social.fishingcreekfarm.org/event/childrens-tennis-camp-2/2024-06-12/
LOCATION:Cherry Tree Lane Tennis Court
END:VEVENT
BEGIN:VEVENT
DTSTART;TZID=America/New_York:20240605T173000
DTEND;TZID=America/New_York:20240605T193000
DTSTAMP:20260420T111736
CREATED:20240601T165614Z
LAST-MODIFIED:20240601T170231Z
UID:10000552-1717608600-1717615800@social.fishingcreekfarm.org
SUMMARY:Children's Tennis Camp
DESCRIPTION:FCF Kids’ Tennis Camp 2024\nASSESSMENT Day May 15th @ 3:30pm\nCamp Days Wednesdays: June 5\, 12\, 19\, and 26\nHurry and register – – tennis camp starts June 5th! Assessment Day Wednesday May 15th @ 3:30 to 4:30 pm \nCoach Booie\, Teaching Pro at Bowie Sportsfit and  private lesson coach\, will lead our camp.  Tennis skills\, scoring and match playing will be taught.  Players of all levels welcome – – and no experience is necessary.  This is a great way for the kids in the neighborhood to get to know each and hang out.   As in the past\, we will have two classes\, one for younger kids and one for older players.   For any questions\, please text Gary Harkins at 301-535-441 or Lark Marie@ 410-212-0001 \nThe Programs: \n\nAges 6-9 will be in the Quick Start Program. It’s a great way to learn to play\, develop basic tennis skills and an understanding of the game.\nAges 10-17 will learn the strokes\, game strategy\, how to serve\, how to score and will play matches.  Fun games will be used to sharpen skills\, and challenging “match style” games will be played.\n\nThe Times \n\nLessons will be once a week\, Wednesdays\, June 5\, 12\, 19\, 26\n5:30 p.m. – 6:15 p.m.  – ages 6-9\n6:20 p.m.– 7:30 p.m. – ages 10-17\n\nThe Cost \nPay one flat fee of $85 per child to attend as many lessons as you want! Availability is limited to the first who sign up\, so register now!  If your child has experience playing and wants to play with the older kids\, feel free to register them for that session and attend the Assessment Day for Proper Placement. \nTo Purchase Tickets\, please click the button below:
URL:https://social.fishingcreekfarm.org/event/childrens-tennis-camp-2-2/
LOCATION:Cherry Tree Lane Tennis Court
END:VEVENT
BEGIN:VEVENT
DTSTART;TZID=America/New_York:20240515T153000
DTEND;TZID=America/New_York:20240515T163000
DTSTAMP:20260420T111736
CREATED:20240501T155417Z
LAST-MODIFIED:20240501T162458Z
UID:10000556-1715787000-1715790600@social.fishingcreekfarm.org
SUMMARY:Assessment Day for Children's Tennis Camp
DESCRIPTION:FCF Kids’ Tennis Camp 2024\nASSESSMENT Day May 15th @ 3:30pm\nCamp Days Wednesdays: June 5\, 12\, 19\, and 26\nHurry and register – – tennis camp starts June 5th! Assessment Day Wednesday May 15th @ 3:30 to 4:30 pm \nCoach Booie\, Teaching Pro at Bowie Sportsfit and  private lesson coach\, will lead our camp.  Tennis skills\, scoring and match playing will be taught.  Players of all levels welcome – – and no experience is necessary.  This is a great way for the kids in the neighborhood to get to know each and hang out.   As in the past\, we will have two classes\, one for younger kids and one for older players.   For any questions\, please text Gary Harkins at 301-535-441 or Lark Marie@ 410-212-0001 \nThe Programs: \n\nAges 6-9 will be in the Quick Start Program. It’s a great way to learn to play\, develop basic tennis skills and an understanding of the game.\nAges 10-17 will learn the strokes\, game strategy\, how to serve\, how to score and will play matches.  Fun games will be used to sharpen skills\, and challenging “match style” games will be played.\n\nThe Times \n\nLessons will be once a week\, Wednesdays\, June 5\, 12\, 19\, 26\n5:30 p.m. – 6:15 p.m.  – ages 6-9\n6:20 p.m.– 7:30 p.m. – ages 10-17\n\nThe Cost \nPay one flat fee of $85 per child to attend as many lessons as you want! Availability is limited to the first who sign up\, so register now!  If your child has experience playing and wants to play with the older kids\, feel free to register them for that session and attend the Assessment Day for Proper Placement. \nTo purchase a pass to the camp\, please click below:
URL:https://social.fishingcreekfarm.org/event/assessment-day-for-childrens-tennis-camp/
LOCATION:Cherry Tree Lane Tennis Court
END:VEVENT
BEGIN:VEVENT
DTSTART;TZID=America/New_York:20230625T110000
DTEND;TZID=America/New_York:20230625T120000
DTSTAMP:20260420T111736
CREATED:20230622T160916Z
LAST-MODIFIED:20230622T160916Z
UID:10000307-1687690800-1687694400@social.fishingcreekfarm.org
SUMMARY:Pickleball Committee Meeting
DESCRIPTION:A pickleball committee meeting to discuss Open Play hours will be held Sunday\, June 25th at 11AM at the tennis courts.
URL:https://social.fishingcreekfarm.org/event/pickleball-committee-meeting/
LOCATION:Cherry Tree Lane Tennis Court
END:VEVENT
BEGIN:VEVENT
DTSTART;TZID=America/New_York:20230614T180000
DTEND;TZID=America/New_York:20230802T200000
DTSTAMP:20260420T111736
CREATED:20230527T204737Z
LAST-MODIFIED:20230527T220732Z
UID:10000237-1686765600-1691006400@social.fishingcreekfarm.org
SUMMARY:2023 Children's Tennis Camp
DESCRIPTION:Fishing Creek Farm Tennis Camp is Back! \nRegistration is limited. Sign up now!\nFCF Kids’ Tennis Camp 2023: June 14th – August 2nd\, Wednesdays and Fridays!\nCoach Grant Shanahan\, a UMD experienced player and private lesson coach\, will once again lead our camp.  Tennis skills\, scoring and match playing will be taught.  Players of all levels welcome – – and no experience is necessary.  This is a great way for the kids in the neighborhood to get to know each and hang out.   As in the past\, we will have two classes\, one for younger kids and one for older players. If your child is slightly younger than 6\, we may be able to accommodate them. \nThe Programs: \n\nAges 6-9 will be in the Quick Start Program. It’s a great way to learn to play\, develop basic tennis skills and an understanding of the game.\nAges 10-18 will learn the strokes\, game strategy\, how to serve\, how to score and will play matches.  Fun games will be used to sharpen skills\, and challenging “match style” games will be played.\n\nThe Times \n\nLessons will be twice a week\, Wednesdays and Fridays\, June 14 – August 2nd.\n\nWednesdays  \n\n6:00 p.m. – 6:45 p.m.  – ages 6-9\n6:45 p.m.– 8:00 p.m. – ages 10-18\n\nFridays \n\n6:00 p.m. – 6:45 p.m. – ages 6-9\n6:45 p.m. – 8:00 p.m. – ages 10-18\n\nThe Cost \nPay one flat fee of $140 per child to attend as many lessons as you want!  Availability is limited to the first who sign up\, so register now! \nIf your child has experience playing and wants to play with the older kids\, feel free to register them for that session. \nTo Purchase Tickets\, please click the button below: \n 
URL:https://social.fishingcreekfarm.org/event/2023-childrens-tennis-camp/
LOCATION:Cherry Tree Lane Tennis Court
END:VEVENT
BEGIN:VEVENT
DTSTART;TZID=America/New_York:20230605T170000
DTEND;TZID=America/New_York:20230605T190000
DTSTAMP:20260420T111736
CREATED:20230530T205754Z
LAST-MODIFIED:20230530T205754Z
UID:10000242-1685984400-1685991600@social.fishingcreekfarm.org
SUMMARY:Final "Intro to Pickleball" Session
DESCRIPTION:Last Chance: Introduction to Pickleball\nThe third and final “Introduction to Pickleball” session will be held on Monday\, June 5th from 5-7 pm on our tennis/pickleball courts. All beginners are welcome\, whether or not you have attended previous sessions. Please contact Rick Wheeler at pickleball@fishingcreekfarm.org with any questions. \nSee you on the Courts!
URL:https://social.fishingcreekfarm.org/event/final-intro-to-pickleball-session/
LOCATION:Cherry Tree Lane Tennis Court
ORGANIZER;CN="Rick Wheeler":MAILTO:pickleball@fishingcreekfarm.org
END:VEVENT
BEGIN:VEVENT
DTSTART;TZID=America/New_York:20220615T184500
DTEND;TZID=America/New_York:20220729T200000
DTSTAMP:20260420T111736
CREATED:20220506T184319Z
LAST-MODIFIED:20230525T195718Z
UID:10000109-1655318700-1659124800@social.fishingcreekfarm.org
SUMMARY:Children's Tennis Camp
DESCRIPTION:Fishing Creek Farm Tennis Camp is Back! \nRegistration is limited. Sign up now!\nFCF Kids’ Tennis Camp 2022: June 15th – July 29th\, Wednesdays and Fridays!\nFishing Creek Farm is proud to again sponsor a children’s tennis summer program!   Coach Grant Shanahan\, a UMD experienced player and private lesson coach\, will once again lead our camp.  Tennis skills\, scoring and match playing will be taught.  Players of all levels welcome – – and no experience is necessary.  This is a great way for the kids in the neighborhood to get to know each and hang out.   As in the past\, we will have two classes\, one for younger kids and one for older players. \nThe Programs: \n\nAges 6-9 will be in the Quick Start Program. It’s a great way to learn to play\, develop basic tennis skills and an understanding of the game.\nAges 10-17 will learn the strokes\, game strategy\, how to serve\, how to score and will play matches.  Fun games will be used to sharpen skills\, and challenging “match style” games will be played.\n\nThe Times \n\nLessons will be twice a week\, Wednesdays and Fridays\, June 15 – July 29th.\n\nWednesdays  \n\n6:00 p.m. – 6:45 p.m.  – ages 6-9\n6:45 p.m.– 8:00 p.m. – ages 10-17\n\nFridays \n\n6:00 p.m. – 6:45 p.m. – ages 6-9\n6:45 p.m. – 8:00 p.m. – ages 10-17\n\nThe Cost \nPay one flat fee of $140 per child to attend as many lessons as you want!  Availability is limited to the first who sign up\, so register now!   If your child has experience playing and wants to play with the older kids\, feel free to register them for that session. Also\, if there are enough tiny ones interested (under 6) that want a separate section\, the coach’s may be able to accommodate that.  For that request or any questions\, please contact Maggie Elehwany at melehwany@argentum.org. \n 
URL:https://social.fishingcreekfarm.org/event/childrens-tennis-camp/2022-06-15/
LOCATION:Cherry Tree Lane Tennis Court
END:VEVENT
BEGIN:VEVENT
DTSTART;VALUE=DATE:20200617
DTEND;VALUE=DATE:20200731
DTSTAMP:20260420T111736
CREATED:20200604T125559Z
LAST-MODIFIED:20200605T200148Z
UID:10000018-1592424000-1596139199@social.fishingcreekfarm.org
SUMMARY:Fishing Creek Farm Tennis Camp is Back!
DESCRIPTION:Registration is limited due to COVID-19 safety restrictions. Sign up now!\nFCF Kids’ Tennis Camp 2020: June 18th – July 30th\, Thursdays and Saturdays!\nFishing Creek Farm is proud to again sponsor a children’s tennis summer program!  With last month’s announcement from Governor Hogan which eased COVID-19 restrictions on outdoor activities such as tennis\, we are able to proceed with our program as long as we adhere to social distancing and small class sizes (no more than 10).  Our program is a great opportunity for younger and older kids to develop skills and make great use of our beautiful tennis courts.  Coach Luke Hudson will once again be teaching skills\, scoring and match playing.  Players of all levels welcome – – and no experience is necessary.  As in the past\, we will have two classes\, one for younger kids and one for older players.  Social distancing will be practiced\, and hand sanitizers will be available. Please also note that our class times have been modified a bit from previous years to accommodate our Coach and to avoid those hot\, brutal summer afternoons.   \nThe Programs: \n\nAges 6-9 will be in the Quick Start Program. It’s a great way to learn to play\, develop basic tennis skills and an understanding of the game.\nAges 10-17 will learn the strokes\, game strategy\, how to serve\, how to score and will play matches.  Fun games will be used to sharpen skills\, and challenging “match style” games will be played.\n\nNOTE:  If enough older kids are interested\, let me know and we can try to create an additional programs. \nThe Times\nLessons will be twice a week\, Thursdays and Saturdays\, June 18– July 30th. \nThursdays \n• 6:30 p.m. – 7:15 p.m.  – – ages 6-9 \n\n7:15 – 8:15 p.m. – ages 10-17\nSaturdays\n• 8:15 – 9:00 a.m. – – ages 6-9\n• 9:00 – 10:00 a.m. – – ages 10-17 \n\nLimited Liability \nI agree that I am personally responsible for my child’s safety and actions while using facilities at Fishing Creek Farm (FCF). I agree to comply and have my child comply with all FCF policies and rules\, including but not limited to all FCF policies\, guidelines\, signage\, and instructions to protect residents against COVID-19. With full awareness and appreciation of the risks involved\, I and my family\, release\, waive and discharge liability from FCF\, its board members\, officers\, agents and independent contractors. \nThe Cost\nPay one flat fee of $130 per child to attend as many lessons as you want!  We do need to keep down the class size to 10 kids each.  Availability is limited to the first who sign up\, so register now!  If you have any question on this\, please contact Maggie Elehwany by clicking here. To register\, fill out the form here.
URL:https://social.fishingcreekfarm.org/event/fishing-creek-farm-tennis-camp-is-back/
LOCATION:Cherry Tree Lane Tennis Court
END:VEVENT
BEGIN:VEVENT
DTSTART;TZID=America/New_York:20190901T060000
DTEND;TZID=America/New_York:20190901T080000
DTSTAMP:20260420T111736
CREATED:20190820T222717Z
LAST-MODIFIED:20190821T162925Z
UID:10000051-1567317600-1567324800@social.fishingcreekfarm.org
SUMMARY:Inaugural Pickleball Brunch Social for Adults 18+
DESCRIPTION:Fishing Creek Farm residents have a new place to play pickleball!. Regulation pickleball court lines were just added to the Cherry Tree Lane tennis court. Mark your calendars for the FCF Inaugural Pickleball Brunch Social\, Sunday\, Sept 1st from 10-12.  If you have friends or relatives visiting for the Labor Day weekend\, bring them too. Equipment will be provided.
URL:https://social.fishingcreekfarm.org/event/inaugural-pickle-ball-brunch-social/
LOCATION:Cherry Tree Lane Tennis Court
END:VEVENT
BEGIN:VEVENT
DTSTART;TZID=America/New_York:20190830T120000
DTEND;TZID=America/New_York:20190830T140000
DTSTAMP:20260420T111736
CREATED:20190820T221155Z
LAST-MODIFIED:20190821T162725Z
UID:10000049-1567166400-1567173600@social.fishingcreekfarm.org
SUMMARY:Pickleball Kids Clinic on August 30th
DESCRIPTION:Introduction to Pickleball (for ages 6-15) on Friday August 30\, 2019 4-6 PM at the Cherry Tree Lane Tennis Court. Registration is free but sign-up is required. To sign-up please send an email to Margo at  margospeciale@gmail.com. Please include your child’s name and age. Equipment will be provided.
URL:https://social.fishingcreekfarm.org/event/pickleball-kids-clinic-on-august-30th/
LOCATION:Cherry Tree Lane Tennis Court
END:VEVENT
BEGIN:VEVENT
DTSTART;TZID=America/New_York:20190517T130000
DTEND;TZID=America/New_York:20190517T150000
DTSTAMP:20260420T111736
CREATED:20190423T193229Z
LAST-MODIFIED:20190424T170809Z
UID:10000040-1558098000-1558105200@social.fishingcreekfarm.org
SUMMARY:Pickleball Thing
DESCRIPTION:Mother nature has not been cooperating but we are determined to bring pickleball to the neighborhood. So let”s try again – \nYou are cordially invited to join your fellow neighbors for our first Pickleball happy hour and mixer on Friday\, May 17th at 5PM for a Pickleball clinic to teach new players the basics\, followed by open play for anyone who would like to play. \nPlease wear comfortable clothes and sneakers.  Paddles will be available.  BYOB and a dish to share (if you would like). \nPlease RSVP to margospeciale@gmail.com.
URL:https://social.fishingcreekfarm.org/event/pickleball-thing/
LOCATION:Cherry Tree Lane Tennis Court
END:VEVENT
END:VCALENDAR